BEGIN:VCALENDAR
VERSION:2.0
PRODID:-//Vintage Ireland - ECPv6.12.0.1//NONSGML v1.0//EN
CALSCALE:GREGORIAN
METHOD:PUBLISH
X-WR-CALNAME:Vintage Ireland
X-ORIGINAL-URL:https://vintageireland.eu
X-WR-CALDESC:Events for Vintage Ireland
REFRESH-INTERVAL;VALUE=DURATION:PT1H
X-Robots-Tag:noindex
X-PUBLISHED-TTL:PT1H
BEGIN:VTIMEZONE
TZID:UTC
BEGIN:STANDARD
TZOFFSETFROM:+0000
TZOFFSETTO:+0000
TZNAME:UTC
DTSTART:20260101T000000
END:STANDARD
END:VTIMEZONE
BEGIN:VEVENT
DTSTART;TZID=UTC:20260201T110000
DTEND;TZID=UTC:20260201T173000
DTSTAMP:20260421T083121
CREATED:20220426T194447Z
LAST-MODIFIED:20251202T131541Z
UID:6989-1769943600-1769967000@vintageireland.eu
SUMMARY:South Dublin Antiques\, Vintage & More Fair
DESCRIPTION:One of our most popular venues\, usually hosting roughly 40 traders per fair\, and featuring antique and vintage furniture and interior decor\, fine art\, vintage kitchen and tableware\, collector’s items including rare books and vintage memorabilia\, antique and vintage jewellery\, plus a small selection of vintage fashion and accessories. \n🏨 The Royal Marine Hotel is easy to find\, overlooking the harbour in the centre of Dun Laoghaire. If you take the DART it is just 3 minutes walk from Dun Laoghaire station. \n🎟️ Admission to the fair is €3.50 – or you can text ADD to 085 862 9007 to receive a reminder and a €1 discount by text. Under-16s enter free but must be accompanied by a supervising adult. \n🍦Dun Laoghaire is a wonderful destination for an afternoon out: enjoy a walk on the pier and take in the great views and fresh sea air\, take afternoon tea overlooking the harbour or drop by the famous Farmers Market in the People’s Park for international cuisine\, gourmet delicacies and fresh produce.
URL:https://vintageireland.eu/event/south-dublin-antiques-vintage-more-fair/
LOCATION:Royal Marine Hotel\, Marine Road\, Dun Laoghaire\, A96 K063\, Ireland
CATEGORIES:Antiques, Vintage & More Fairs
ATTACH;FMTTYPE=image/jpeg:https://vintageireland.eu/wp-content/uploads/2021/08/Vintage-Books-Lot.jpg
ORGANIZER;CN="Vintage Ireland":MAILTO:darcy@vintageireland.eu
END:VEVENT
BEGIN:VEVENT
DTSTART;TZID=UTC:20260208T120000
DTEND;TZID=UTC:20260208T173000
DTSTAMP:20260421T083121
CREATED:20211029T204720Z
LAST-MODIFIED:20251008T202440Z
UID:6801-1770552000-1770571800@vintageireland.eu
SUMMARY:Portlaoise Antiques\, Vintage & More Fair
DESCRIPTION:We’re excited to be hosting another Portlaoise Antiques & Vintage Fair in the Killeshin Hotel. The fair will include thousands of items\, from rare books\, coins and collectables\, to antique and vintage jewellery\, silver and countless items for the home\, along with a plethora of oddities and curios from a bygone time\, plus a selection of vintage fashions and accessories representing a wide range of styles and eras. \n🎟️ Admission to the fair is €3.50 – or you can text ADD to 085 862 9007 to receive a reminder and a €1 discount by text before each fair. Under-16s enter free but must be accompanied by a supervising adult. \n🏨  THE KILLESHIN HOTEL: Conveniently located in the centre of Ireland (exit 16 off M7)\, is 4-star venue with a bright\, spacious and contemporary interior\, featuring hints of traditional design throughout\, lending it a sense of warmth and luxury. \n🍽️ The Cedarooms Bar and Bistro both offer a wide variety of European culinary delights\, as well as a pleasant and relaxing environment to enjoy after a day’s treasure hunting at the fair. Afternoon tea and a variety of sweet treats are also available from the in-house cafe.
URL:https://vintageireland.eu/event/portlaoise-antiques-vintage-more-fair/
LOCATION:Killeshin Hotel\, Dublin Rd.\, Portlaoise\, Laois\, Ireland
CATEGORIES:Antiques, Vintage & More Fairs
ATTACH;FMTTYPE=image/jpeg:https://vintageireland.eu/wp-content/uploads/2021/10/killeshin-hotel-exterior.jpg
ORGANIZER;CN="Vintage Ireland":MAILTO:darcy@vintageireland.eu
END:VEVENT
END:VCALENDAR